BEGIN:VCALENDAR
VERSION:2.0
PRODID:spatie/icalendar-generator
DESCRIPTION:Events from Liberty Fish
X-WR-CALDESC:Events from Liberty Fish
REFRESH-INTERVAL;VALUE=DURATION:PT1440M
X-PUBLISHED-TTL:PT1440M
BEGIN:VTIMEZONE
TZID:Etc/GMT+0
BEGIN:STANDARD
DTSTART:20250705T140000Z
TZOFFSETFROM:+0000
TZOFFSETTO:+0000
END:STANDARD
END:VTIMEZONE
BEGIN:VTIMEZONE
TZID:UTC
BEGIN:STANDARD
DTSTART:20250727T165044Z
TZOFFSETFROM:+0000
TZOFFSETTO:+0000
END:STANDARD
END:VTIMEZONE
BEGIN:VEVENT
UID:479-8
DTSTAMP:20260423T165044Z
SUMMARY:Trombly Gardens Pickup
LOCATION:Trombly Gardens 150 N River Rd  Milford NH 03055
ORGANIZER;CN=elisha:MAILTO:elishaslibertyfish@gmail.com
RRULE:FREQ=WEEKLY;UNTIL=20300710T000000Z
DTSTART;TZID=Etc/GMT+0:20260401T140000
DTEND;TZID=Etc/GMT+0:20260401T180000
X-ALT-DESC;FMTTYPE=TEXT/HTML:
CATEGORIES:General
URL;VALUE=URI:https://libertyfish.net/my-calendar/?mc_id=479
METHOD:PUBLISH
END:VEVENT
BEGIN:VEVENT
UID:1142-9
DTSTAMP:20260423T165044Z
SUMMARY:Peterborough Farmers' Market
LOCATION:Peterborough Community Center 25 Elm St  Peterborough NH 03458
ORGANIZER;CN=elisha:MAILTO:elishaslibertyfish@gmail.com
RRULE:FREQ=WEEKLY;UNTIL=20300710T000000Z
DTSTART;TZID=Etc/GMT+0:20260401T150000
DTEND;TZID=Etc/GMT+0:20260401T170000
X-ALT-DESC;FMTTYPE=TEXT/HTML:
CATEGORIES:General
URL;VALUE=URI:https://libertyfish.net/my-calendar/?mc_id=1142
METHOD:PUBLISH
END:VEVENT
BEGIN:VEVENT
UID:1369-13
DTSTAMP:20260423T165044Z
SUMMARY:Lexington Home Deliveries
LOCATION:
ORGANIZER;CN=elisha:MAILTO:elishaslibertyfish@gmail.com
RRULE:FREQ=WEEKLY;UNTIL=20300305T000000Z
DTSTART;TZID=Etc/GMT+0:20260407T130000
DTEND;TZID=Etc/GMT+0:20260407T180000
X-ALT-DESC;FMTTYPE=TEXT/HTML:Lexington Home deliveries from 1:00 to 6:00pm 
 on Tuesdays
CATEGORIES:General
URL;VALUE=URI:https://libertyfish.net/my-calendar/?mc_id=1369
METHOD:PUBLISH
END:VEVENT
END:VCALENDAR